BEGIN:VCALENDAR
VERSION:2.0
PRODID:-//Fresno Regional Workforce Development Board - ECPv6.15.14//NONSGML v1.0//EN
CALSCALE:GREGORIAN
METHOD:PUBLISH
X-WR-CALNAME:Fresno Regional Workforce Development Board
X-ORIGINAL-URL:https://www.fresnobsc.com
X-WR-CALDESC:Events for Fresno Regional Workforce Development Board
REFRESH-INTERVAL;VALUE=DURATION:PT1H
X-Robots-Tag:noindex
X-PUBLISHED-TTL:PT1H
BEGIN:VTIMEZONE
TZID:America/Los_Angeles
BEGIN:DAYLIGHT
TZOFFSETFROM:-0800
TZOFFSETTO:-0700
TZNAME:PDT
DTSTART:20220313T100000
END:DAYLIGHT
BEGIN:STANDARD
TZOFFSETFROM:-0700
TZOFFSETTO:-0800
TZNAME:PST
DTSTART:20221106T090000
END:STANDARD
BEGIN:DAYLIGHT
TZOFFSETFROM:-0800
TZOFFSETTO:-0700
TZNAME:PDT
DTSTART:20230312T100000
END:DAYLIGHT
BEGIN:STANDARD
TZOFFSETFROM:-0700
TZOFFSETTO:-0800
TZNAME:PST
DTSTART:20231105T090000
END:STANDARD
BEGIN:DAYLIGHT
TZOFFSETFROM:-0800
TZOFFSETTO:-0700
TZNAME:PDT
DTSTART:20240310T100000
END:DAYLIGHT
BEGIN:STANDARD
TZOFFSETFROM:-0700
TZOFFSETTO:-0800
TZNAME:PST
DTSTART:20241103T090000
END:STANDARD
END:VTIMEZONE
BEGIN:VEVENT
DTSTART;TZID=America/Los_Angeles:20230124T170000
DTEND;TZID=America/Los_Angeles:20230124T190000
DTSTAMP:20260419T130329
CREATED:20230106T161356Z
LAST-MODIFIED:20230110T213909Z
UID:2938-1674579600-1674586800@www.fresnobsc.com
SUMMARY:Labor Law Updates for 2023
DESCRIPTION:This year has seen a wide variety of legislative changes and court decisions that will impact California employers. REGISTER NOW to learn what they are!  CORRECTION: This event is from 9AM – 11AM via Zoom.
URL:https://www.fresnobsc.com/calendar/labor-law-updates-for-2023/
ORGANIZER;CN="Fresno Regional Workforce Development Board":MAILTO:bscfrontdesk@workforce-connection.com
END:VEVENT
END:VCALENDAR