BEGIN:VCALENDAR
VERSION:2.0
PRODID:-//Fresno Regional Workforce Development Board - ECPv6.15.14//NONSGML v1.0//EN
CALSCALE:GREGORIAN
METHOD:PUBLISH
X-WR-CALNAME:Fresno Regional Workforce Development Board
X-ORIGINAL-URL:https://www.fresnobsc.com
X-WR-CALDESC:Events for Fresno Regional Workforce Development Board
REFRESH-INTERVAL;VALUE=DURATION:PT1H
X-Robots-Tag:noindex
X-PUBLISHED-TTL:PT1H
BEGIN:VTIMEZONE
TZID:America/Los_Angeles
BEGIN:DAYLIGHT
TZOFFSETFROM:-0800
TZOFFSETTO:-0700
TZNAME:PDT
DTSTART:20210314T100000
END:DAYLIGHT
BEGIN:STANDARD
TZOFFSETFROM:-0700
TZOFFSETTO:-0800
TZNAME:PST
DTSTART:20211107T090000
END:STANDARD
BEGIN:DAYLIGHT
TZOFFSETFROM:-0800
TZOFFSETTO:-0700
TZNAME:PDT
DTSTART:20220313T100000
END:DAYLIGHT
BEGIN:STANDARD
TZOFFSETFROM:-0700
TZOFFSETTO:-0800
TZNAME:PST
DTSTART:20221106T090000
END:STANDARD
BEGIN:DAYLIGHT
TZOFFSETFROM:-0800
TZOFFSETTO:-0700
TZNAME:PDT
DTSTART:20230312T100000
END:DAYLIGHT
BEGIN:STANDARD
TZOFFSETFROM:-0700
TZOFFSETTO:-0800
TZNAME:PST
DTSTART:20231105T090000
END:STANDARD
END:VTIMEZONE
BEGIN:VEVENT
DTSTART;TZID=America/Los_Angeles:20220721T160000
DTEND;TZID=America/Los_Angeles:20220721T180000
DTSTAMP:20260419T224828
CREATED:20220616T164509Z
LAST-MODIFIED:20220616T164509Z
UID:2875-1658419200-1658426400@www.fresnobsc.com
SUMMARY:Behavior-Based Interviewing
DESCRIPTION:As businesses start to ramp back up\, it will benefit hiring managers to understand the pitfalls of poor interviewing strategies and how creating structured\, behavior-based interviews can add value to your hiring process.  Turnover is costly\, time consuming and a downright hassle. Employers can alleviate this burden by adopting a structured hiring process focused on behavior-based interviewing. Join us to learn how to ask the right questions\, get the answers you need\, and make informed and lawful hiring decisions.
URL:https://www.fresnobsc.com/calendar/behavior-based-interviewing/
ORGANIZER;CN="Fresno Regional Workforce Development Board":MAILTO:bscfrontdesk@workforce-connection.com
END:VEVENT
END:VCALENDAR