BEGIN:VCALENDAR
VERSION:2.0
PRODID:-//Fresno Regional Workforce Development Board - ECPv6.15.14//NONSGML v1.0//EN
CALSCALE:GREGORIAN
METHOD:PUBLISH
X-ORIGINAL-URL:https://www.fresnobsc.com
X-WR-CALDESC:Events for Fresno Regional Workforce Development Board
REFRESH-INTERVAL;VALUE=DURATION:PT1H
X-Robots-Tag:noindex
X-PUBLISHED-TTL:PT1H
BEGIN:VTIMEZONE
TZID:America/Los_Angeles
BEGIN:DAYLIGHT
TZOFFSETFROM:-0800
TZOFFSETTO:-0700
TZNAME:PDT
DTSTART:20240310T100000
END:DAYLIGHT
BEGIN:STANDARD
TZOFFSETFROM:-0700
TZOFFSETTO:-0800
TZNAME:PST
DTSTART:20241103T090000
END:STANDARD
BEGIN:DAYLIGHT
TZOFFSETFROM:-0800
TZOFFSETTO:-0700
TZNAME:PDT
DTSTART:20250309T100000
END:DAYLIGHT
BEGIN:STANDARD
TZOFFSETFROM:-0700
TZOFFSETTO:-0800
TZNAME:PST
DTSTART:20251102T090000
END:STANDARD
BEGIN:DAYLIGHT
TZOFFSETFROM:-0800
TZOFFSETTO:-0700
TZNAME:PDT
DTSTART:20260308T100000
END:DAYLIGHT
BEGIN:STANDARD
TZOFFSETFROM:-0700
TZOFFSETTO:-0800
TZNAME:PST
DTSTART:20261101T090000
END:STANDARD
END:VTIMEZONE
BEGIN:VEVENT
DTSTART;TZID=America/Los_Angeles:20251211T090000
DTEND;TZID=America/Los_Angeles:20251211T090000
DTSTAMP:20260419T192615
CREATED:20251126T160529Z
LAST-MODIFIED:20251126T160529Z
UID:3186-1765443600-1765443600@www.fresnobsc.com
SUMMARY:Avoiding Burnout
DESCRIPTION:Learn about the sources of stress and how we can utilize inactive\, proactive\, and reactive strategies to improve our responses. We will also discuss an approach to work/life balance with tangible tips  to more effectively use our time and questions to help participants consider what is really important to them.
URL:https://www.fresnobsc.com/calendar/avoiding-burnout-3/
ORGANIZER;CN="Fresno Regional Workforce Development Board":MAILTO:bscfrontdesk@workforce-connection.com
END:VEVENT
END:VCALENDAR