BEGIN:VCALENDAR
VERSION:2.0
PRODID:-//Fresno Regional Workforce Development Board - ECPv6.15.14//NONSGML v1.0//EN
CALSCALE:GREGORIAN
METHOD:PUBLISH
X-WR-CALNAME:Fresno Regional Workforce Development Board
X-ORIGINAL-URL:https://www.fresnobsc.com
X-WR-CALDESC:Events for Fresno Regional Workforce Development Board
REFRESH-INTERVAL;VALUE=DURATION:PT1H
X-Robots-Tag:noindex
X-PUBLISHED-TTL:PT1H
BEGIN:VTIMEZONE
TZID:America/Los_Angeles
BEGIN:DAYLIGHT
TZOFFSETFROM:-0800
TZOFFSETTO:-0700
TZNAME:PDT
DTSTART:20200308T100000
END:DAYLIGHT
BEGIN:STANDARD
TZOFFSETFROM:-0700
TZOFFSETTO:-0800
TZNAME:PST
DTSTART:20201101T090000
END:STANDARD
BEGIN:DAYLIGHT
TZOFFSETFROM:-0800
TZOFFSETTO:-0700
TZNAME:PDT
DTSTART:20210314T100000
END:DAYLIGHT
BEGIN:STANDARD
TZOFFSETFROM:-0700
TZOFFSETTO:-0800
TZNAME:PST
DTSTART:20211107T090000
END:STANDARD
BEGIN:DAYLIGHT
TZOFFSETFROM:-0800
TZOFFSETTO:-0700
TZNAME:PDT
DTSTART:20220313T100000
END:DAYLIGHT
BEGIN:STANDARD
TZOFFSETFROM:-0700
TZOFFSETTO:-0800
TZNAME:PST
DTSTART:20221106T090000
END:STANDARD
BEGIN:DAYLIGHT
TZOFFSETFROM:-0800
TZOFFSETTO:-0700
TZNAME:PDT
DTSTART:20230312T100000
END:DAYLIGHT
BEGIN:STANDARD
TZOFFSETFROM:-0700
TZOFFSETTO:-0800
TZNAME:PST
DTSTART:20231105T090000
END:STANDARD
END:VTIMEZONE
BEGIN:VEVENT
DTSTART;TZID=America/Los_Angeles:20211014T160000
DTEND;TZID=America/Los_Angeles:20211014T173000
DTSTAMP:20260422T041035
CREATED:20210927T152433Z
LAST-MODIFIED:20210927T152433Z
UID:2593-1634227200-1634232600@www.fresnobsc.com
SUMMARY:Covid 19 Vaccination Requirements for Employers
DESCRIPTION:The COVID vaccine is widely available\, but rising cases and looming disease variants have left governments and employers grappling with how to address those who have chosen to remain unvaccinated. \nJoin us as we discuss; new OSHA requirements\, the CDPH order for healthcare employers\, responding to employee objections\, religious and medical exemptions\, and more. \nRegister at: https://bit.ly/CovidWebinarFRWDB
URL:https://www.fresnobsc.com/calendar/covid-19-vaccination-requirements-for-employers/
CATEGORIES:BSC
ORGANIZER;CN="Fresno Regional Workforce Development Board":MAILTO:bscfrontdesk@workforce-connection.com
END:VEVENT
BEGIN:VEVENT
DTSTART;TZID=America/Los_Angeles:20220120T210000
DTEND;TZID=America/Los_Angeles:20220120T230000
DTSTAMP:20260422T041035
CREATED:20220111T190007Z
LAST-MODIFIED:20220111T190724Z
UID:2619-1642712400-1642719600@www.fresnobsc.com
SUMMARY:Rapid Response Job Fair
DESCRIPTION:
URL:https://www.fresnobsc.com/calendar/rapid-response-job-fair/
LOCATION:Manchester Mall – Shields Avenue Entrance\, 1901 E Shields Avenue\, Fresno\, 93726\, United States
CATEGORIES:BSC
ORGANIZER;CN="Fresno Regional Workforce Development Board":MAILTO:bscfrontdesk@workforce-connection.com
END:VEVENT
BEGIN:VEVENT
DTSTART;TZID=America/Los_Angeles:20220120T220000
DTEND;TZID=America/Los_Angeles:20220120T230000
DTSTAMP:20260422T041035
CREATED:20220111T191706Z
LAST-MODIFIED:20220111T191706Z
UID:2628-1642716000-1642719600@www.fresnobsc.com
SUMMARY:Firebaugh Business Grant Information Session
DESCRIPTION:
URL:https://www.fresnobsc.com/calendar/firebaugh-business-grant-information-session/
LOCATION:Firebaugh Community Center\, Firebaugh Community Center\,1655 13th St.\,\, Firebaugh\, CA\, 93622\, United States
CATEGORIES:BSC
ORGANIZER;CN="Fresno Regional Workforce Development Board":MAILTO:bscfrontdesk@workforce-connection.com
END:VEVENT
BEGIN:VEVENT
DTSTART;TZID=America/Los_Angeles:20220323T160000
DTEND;TZID=America/Los_Angeles:20220323T173000
DTSTAMP:20260422T041035
CREATED:20220217T200004Z
LAST-MODIFIED:20220217T200004Z
UID:2657-1648051200-1648056600@www.fresnobsc.com
SUMMARY:Creating Effective Mentor Programs for Staff Retention
DESCRIPTION:Recruiting in a limited labor pool and retaining valuable staff has become increasingly more challenging. Join us for this upcoming workshop to gain insights into establishing an effective mentor program at your workplace to develop staff and increase retention. Key Topics include the 8 steps to Mentoring\, how to select and prepare mentors\, including covering key mentor skills. Workshop includes case studies and activities to enhance mentor skills\, including: \n\nListen Actively (with 5 modes of listening)\nBuilding Trust – what to share upward\, what to keep in confidence\nDetermining Goals and Building Capacity of Mentee\nEncouraging and Inspiring (how to coach and give feedback\, resources to read\, key introductions
URL:https://www.fresnobsc.com/calendar/creating-effective-mentor-programs-for-staff-retention/
CATEGORIES:BSC
ORGANIZER;CN="Fresno Regional Workforce Development Board":MAILTO:bscfrontdesk@workforce-connection.com
END:VEVENT
END:VCALENDAR