BEGIN:VCALENDAR
VERSION:2.0
PRODID:-//Fresno Regional Workforce Development Board - ECPv6.15.14//NONSGML v1.0//EN
CALSCALE:GREGORIAN
METHOD:PUBLISH
X-ORIGINAL-URL:https://www.fresnobsc.com
X-WR-CALDESC:Events for Fresno Regional Workforce Development Board
REFRESH-INTERVAL;VALUE=DURATION:PT1H
X-Robots-Tag:noindex
X-PUBLISHED-TTL:PT1H
BEGIN:VTIMEZONE
TZID:America/Los_Angeles
BEGIN:DAYLIGHT
TZOFFSETFROM:-0800
TZOFFSETTO:-0700
TZNAME:PDT
DTSTART:20180311T100000
END:DAYLIGHT
BEGIN:STANDARD
TZOFFSETFROM:-0700
TZOFFSETTO:-0800
TZNAME:PST
DTSTART:20181104T090000
END:STANDARD
BEGIN:DAYLIGHT
TZOFFSETFROM:-0800
TZOFFSETTO:-0700
TZNAME:PDT
DTSTART:20190310T100000
END:DAYLIGHT
BEGIN:STANDARD
TZOFFSETFROM:-0700
TZOFFSETTO:-0800
TZNAME:PST
DTSTART:20191103T090000
END:STANDARD
BEGIN:DAYLIGHT
TZOFFSETFROM:-0800
TZOFFSETTO:-0700
TZNAME:PDT
DTSTART:20200308T100000
END:DAYLIGHT
BEGIN:STANDARD
TZOFFSETFROM:-0700
TZOFFSETTO:-0800
TZNAME:PST
DTSTART:20201101T090000
END:STANDARD
END:VTIMEZONE
BEGIN:VEVENT
DTSTART;TZID=America/Los_Angeles:20190516T153000
DTEND;TZID=America/Los_Angeles:20190516T173000
DTSTAMP:20260422T022831
CREATED:20181115T204324Z
LAST-MODIFIED:20190426T202443Z
UID:577-1558020600-1558027800@www.fresnobsc.com
SUMMARY:OSHA Safety Regulations
DESCRIPTION:Dan Larsen with Sierra HR Partners will provide a presentation on background investigations. \nThis workshop is full.  To be added to wait list email: jaxtell@workforce-connection.com \n 
URL:https://www.fresnobsc.com/calendar/ccc/
CATEGORIES:BSC
END:VEVENT
BEGIN:VEVENT
DTSTART;TZID=America/Los_Angeles:20190522T153000
DTEND;TZID=America/Los_Angeles:20190522T173000
DTSTAMP:20260422T022831
CREATED:20190326T193022Z
LAST-MODIFIED:20190513T191453Z
UID:727-1558539000-1558546200@www.fresnobsc.com
SUMMARY:Basic Sales and Use Tax Workshop
DESCRIPTION:Leann Gouveia with the California Department Tax and Fee Administration will provide information on how to successfully operate your business. Topics include: \n\nFacts About Your Seller’s Permit\nWhat is Sales/Use Tax?\nHow to File your Return\nWebsite Navigation/Online Registration/E-filing\nTax Payer Responsibilities\nRequired Recordkeeping\n\nClick Here To Register
URL:https://www.fresnobsc.com/calendar/home-based-business-workshop/
CATEGORIES:BSC
END:VEVENT
BEGIN:VEVENT
DTSTART;TZID=America/Los_Angeles:20190530T153000
DTEND;TZID=America/Los_Angeles:20190530T173000
DTSTAMP:20260422T022831
CREATED:20190214T013306Z
LAST-MODIFIED:20190513T191516Z
UID:659-1559230200-1559237400@www.fresnobsc.com
SUMMARY:New Employment Laws for 2019
DESCRIPTION:Lisa Horton and David Litman from Sagaser\, Watkins & Wieland PC will present on new Employment Laws for 2019. \nClick Here To Register
URL:https://www.fresnobsc.com/calendar/new-employment-laws-for-2019/
CATEGORIES:BSC
END:VEVENT
END:VCALENDAR